Package: discordant Version: 1.28.0 Command: /Library/Frameworks/R.framework/Resources/bin/R CMD build --keep-empty-dirs --no-resave-data discordant StartedAt: 2024-10-16 18:47:14 -0400 (Wed, 16 Oct 2024) EndedAt: 2024-10-16 18:49:01 -0400 (Wed, 16 Oct 2024) EllapsedTime: 106.5 seconds RetCode: 0 Status: OK PackageFile: discordant_1.28.0.tar.gz PackageFileSize: 475.5 KiB