Package: discordant Version: 1.28.0 Command: /home/biocbuild/R/R-beta-2024-04-15_r86425/bin/R CMD INSTALL discordant StartedAt: 2024-05-08 20:08:28 -0000 (Wed, 08 May 2024) EndedAt: 2024-05-08 20:09:01 -0000 (Wed, 08 May 2024) EllapsedTime: 33.3 seconds RetCode: 0 Status: OK