Package: discordant Version: 1.28.0 Command: /home/biocbuild/R/R-beta-2024-04-15_r86425/bin/R CMD check --install=check:discordant.install-out.txt --library=/home/biocbuild/R/R-beta-2024-04-15_r86425/site-library --no-vignettes --timings discordant_1.28.0.tar.gz StartedAt: 2024-05-09 06:51:48 -0000 (Thu, 09 May 2024) EndedAt: 2024-05-09 06:52:33 -0000 (Thu, 09 May 2024) EllapsedTime: 45.1 seconds RetCode: 0 Status: OK CheckDir: discordant.Rcheck Warnings: 0