Package: discordant Version: 1.28.0 Command: /home/biocbuild/R/R-beta-2024-04-15_r86425/bin/R CMD build --keep-empty-dirs --no-resave-data discordant StartedAt: 2024-05-08 23:56:46 -0000 (Wed, 08 May 2024) EndedAt: 2024-05-08 23:57:35 -0000 (Wed, 08 May 2024) EllapsedTime: 49.1 seconds RetCode: 0 Status: OK PackageFile: discordant_1.28.0.tar.gz PackageFileSize: 542.8 KiB