Package: discordant Version: 1.28.0 Command: /Library/Frameworks/R.framework/Resources/bin/R CMD build --keep-empty-dirs --no-resave-data discordant StartedAt: 2024-06-09 20:46:19 -0400 (Sun, 09 Jun 2024) EndedAt: 2024-06-09 20:47:23 -0400 (Sun, 09 Jun 2024) EllapsedTime: 64.3 seconds RetCode: 0 Status: OK PackageFile: discordant_1.28.0.tar.gz PackageFileSize: 475.2 KiB