Package: dir.expiry Version: 1.12.0 Command: E:\biocbuild\bbs-3.19-bioc\R\bin\R.exe CMD check --no-multiarch --install=check:dir.expiry.install-out.txt --library=E:\biocbuild\bbs-3.19-bioc\R\library --no-vignettes --timings dir.expiry_1.12.0.tar.gz StartedAt: 2024-10-17 00:55:43 -0400 (Thu, 17 Oct 2024) EndedAt: 2024-10-17 00:56:07 -0400 (Thu, 17 Oct 2024) EllapsedTime: 24.4 seconds RetCode: 0 Status: OK CheckDir: dir.expiry.Rcheck Warnings: 0