Package: dir.expiry Version: 1.12.0 Command: /home/biocbuild/R/R-beta-2024-04-15_r86425/bin/R CMD check --install=check:dir.expiry.install-out.txt --library=/home/biocbuild/R/R-beta-2024-04-15_r86425/site-library --no-vignettes --timings dir.expiry_1.12.0.tar.gz StartedAt: 2024-05-09 06:51:26 -0000 (Thu, 09 May 2024) EndedAt: 2024-05-09 06:51:43 -0000 (Thu, 09 May 2024) EllapsedTime: 17.0 seconds RetCode: 0 Status: OK CheckDir: dir.expiry.Rcheck Warnings: 0