Package: dir.expiry Version: 1.12.0 Command: /Library/Frameworks/R.framework/Resources/bin/R CMD build --keep-empty-dirs --no-resave-data dir.expiry StartedAt: 2024-06-09 20:45:40 -0400 (Sun, 09 Jun 2024) EndedAt: 2024-06-09 20:45:55 -0400 (Sun, 09 Jun 2024) EllapsedTime: 15.2 seconds RetCode: 0 Status: OK PackageFile: dir.expiry_1.12.0.tar.gz PackageFileSize: 300.6 KiB