Package: diggit Version: 1.36.0 Command: E:\biocbuild\bbs-3.19-bioc\R\bin\R.exe CMD INSTALL diggit StartedAt: 2024-10-16 16:57:01 -0400 (Wed, 16 Oct 2024) EndedAt: 2024-10-16 16:57:25 -0400 (Wed, 16 Oct 2024) EllapsedTime: 24.3 seconds RetCode: 0 Status: OK