Package: diggit Version: 1.36.0 Command: F:\biocbuild\bbs-3.19-bioc\R\bin\R.exe CMD check --no-multiarch --install=check:diggit.install-out.txt --library=F:\biocbuild\bbs-3.19-bioc\R\library --no-vignettes --timings diggit_1.36.0.tar.gz StartedAt: 2024-06-27 01:04:22 -0400 (Thu, 27 Jun 2024) EndedAt: 2024-06-27 01:09:14 -0400 (Thu, 27 Jun 2024) EllapsedTime: 292.6 seconds RetCode: 0 Status: WARNINGS CheckDir: diggit.Rcheck Warnings: 3