Package: diggit Version: 1.36.0 Command: /Library/Frameworks/R.framework/Resources/bin/R CMD build --keep-empty-dirs --no-resave-data diggit StartedAt: 2024-10-16 18:45:47 -0400 (Wed, 16 Oct 2024) EndedAt: 2024-10-16 18:52:00 -0400 (Wed, 16 Oct 2024) EllapsedTime: 372.6 seconds RetCode: 0 Status: OK PackageFile: diggit_1.36.0.tar.gz PackageFileSize: 348.9 KiB