Package: diggit Version: 1.36.0 Command: rm -rf diggit.buildbin-libdir && mkdir diggit.buildbin-libdir && /Users/biocbuild/BBS/utils/build-universal.sh diggit_1.36.0.tar.gz /Library/Frameworks/R.framework/Resources/bin/R diggit.buildbin-libdir StartedAt: 2024-10-17 16:02:11 -0400 (Thu, 17 Oct 2024) EndedAt: 2024-10-17 16:02:46 -0400 (Thu, 17 Oct 2024) EllapsedTime: 35.3 seconds RetCode: 0 Status: OK PackageFile: diggit_1.36.0.tgz PackageFileSize: 602.2 KiB