Package: diggit Version: 1.36.0 Command: /home/biocbuild/R/R-beta-2024-04-15_r86425/bin/R CMD INSTALL diggit StartedAt: 2024-05-08 20:47:27 -0000 (Wed, 08 May 2024) EndedAt: 2024-05-08 20:47:44 -0000 (Wed, 08 May 2024) EllapsedTime: 16.9 seconds RetCode: 0 Status: OK