Package: diggit Version: 1.36.0 Command: /Library/Frameworks/R.framework/Resources/bin/R CMD INSTALL diggit StartedAt: 2024-10-16 17:50:59 -0400 (Wed, 16 Oct 2024) EndedAt: 2024-10-16 17:51:14 -0400 (Wed, 16 Oct 2024) EllapsedTime: 15.2 seconds RetCode: 0 Status: OK