Package: diffuStats Version: 1.24.0 Command: /Library/Frameworks/R.framework/Resources/bin/R CMD build --keep-empty-dirs --no-resave-data diffuStats StartedAt: 2024-10-16 23:23:01 -0400 (Wed, 16 Oct 2024) EndedAt: 2024-10-16 23:23:56 -0400 (Wed, 16 Oct 2024) EllapsedTime: 55.0 seconds RetCode: 0 Status: OK PackageFile: diffuStats_1.24.0.tar.gz PackageFileSize: 1.33 MiB