Package: diffcyt Version: 1.24.0 Command: chmod a+r diffcyt -R && F:\biocbuild\bbs-3.19-bioc\R\bin\R.exe CMD build --keep-empty-dirs --no-resave-data diffcyt StartedAt: 2024-06-26 18:24:27 -0400 (Wed, 26 Jun 2024) EndedAt: 2024-06-26 18:26:24 -0400 (Wed, 26 Jun 2024) EllapsedTime: 117.2 seconds RetCode: 0 Status: OK PackageFile: diffcyt_1.24.0.tar.gz PackageFileSize: 673.3 KiB