Package: diffcyt Version: 1.24.0 Command: rm -rf diffcyt.buildbin-libdir && mkdir diffcyt.buildbin-libdir && /Users/biocbuild/BBS/utils/build-universal.sh diffcyt_1.24.0.tar.gz /Library/Frameworks/R.framework/Resources/bin/R diffcyt.buildbin-libdir StartedAt: 2024-10-17 16:01:40 -0400 (Thu, 17 Oct 2024) EndedAt: 2024-10-17 16:02:55 -0400 (Thu, 17 Oct 2024) EllapsedTime: 74.6 seconds RetCode: 0 Status: OK PackageFile: diffcyt_1.24.0.tgz PackageFileSize: 863 KiB