Package: diffcyt Version: 1.24.0 Command: /Library/Frameworks/R.framework/Resources/bin/R CMD check --install=check:diffcyt.install-out.txt --library=/Library/Frameworks/R.framework/Resources/library --no-vignettes --timings diffcyt_1.24.0.tar.gz StartedAt: 2024-06-09 19:59:41 -0400 (Sun, 09 Jun 2024) EndedAt: 2024-06-09 20:04:26 -0400 (Sun, 09 Jun 2024) EllapsedTime: 284.3 seconds RetCode: 0 Status: OK CheckDir: diffcyt.Rcheck Warnings: 0