Package: diffcyt Version: 1.24.0 Command: rm -rf diffcyt.buildbin-libdir && mkdir diffcyt.buildbin-libdir && /Users/biocbuild/BBS/utils/build-universal.sh diffcyt_1.24.0.tar.gz /Library/Frameworks/R.framework/Resources/bin/R diffcyt.buildbin-libdir StartedAt: 2024-06-10 00:15:20 -0400 (Mon, 10 Jun 2024) EndedAt: 2024-06-10 00:16:02 -0400 (Mon, 10 Jun 2024) EllapsedTime: 41.6 seconds RetCode: 0 Status: OK PackageFile: diffcyt_1.24.0.tgz PackageFileSize: 862.9 KiB