Package: diffcyt Version: 1.24.0 Command: /Library/Frameworks/R.framework/Resources/bin/R CMD build --keep-empty-dirs --no-resave-data diffcyt StartedAt: 2024-06-09 20:41:25 -0400 (Sun, 09 Jun 2024) EndedAt: 2024-06-09 20:44:02 -0400 (Sun, 09 Jun 2024) EllapsedTime: 157.7 seconds RetCode: 0 Status: OK PackageFile: diffcyt_1.24.0.tar.gz PackageFileSize: 859.1 KiB