Package: diffcyt Version: 1.24.0 Command: /Library/Frameworks/R.framework/Resources/bin/R CMD check --install=check:diffcyt.install-out.txt --library=/Library/Frameworks/R.framework/Resources/library --no-vignettes --timings diffcyt_1.24.0.tar.gz StartedAt: 2024-10-17 19:43:04 -0400 (Thu, 17 Oct 2024) EndedAt: 2024-10-17 19:48:07 -0400 (Thu, 17 Oct 2024) EllapsedTime: 303.3 seconds RetCode: 0 Status: OK CheckDir: diffcyt.Rcheck Warnings: 0