Package: diffcoexp Version: 1.24.0 Command: /home/biocbuild/bbs-3.19-bioc/R/bin/R CMD check --install=check:diffcoexp.install-out.txt --library=/home/biocbuild/bbs-3.19-bioc/R/site-library --timings diffcoexp_1.24.0.tar.gz StartedAt: 2024-10-16 23:47:54 -0400 (Wed, 16 Oct 2024) EndedAt: 2024-10-16 23:51:46 -0400 (Wed, 16 Oct 2024) EllapsedTime: 231.4 seconds RetCode: 0 Status: OK CheckDir: diffcoexp.Rcheck Warnings: 0