Package: diffUTR Version: 1.12.0 Command: /home/biocbuild/R/R-beta-2024-04-15_r86425/bin/R CMD build --keep-empty-dirs --no-resave-data diffUTR StartedAt: 2024-05-08 23:55:29 -0000 (Wed, 08 May 2024) EndedAt: 2024-05-08 23:57:12 -0000 (Wed, 08 May 2024) EllapsedTime: 103.1 seconds RetCode: 0 Status: OK PackageFile: diffUTR_1.12.0.tar.gz PackageFileSize: 1.17 MiB