Package: diffUTR Version: 1.12.0 Command: /Library/Frameworks/R.framework/Resources/bin/R CMD build --keep-empty-dirs --no-resave-data diffUTR StartedAt: 2024-10-16 23:23:05 -0400 (Wed, 16 Oct 2024) EndedAt: 2024-10-16 23:24:34 -0400 (Wed, 16 Oct 2024) EllapsedTime: 88.9 seconds RetCode: 0 Status: OK PackageFile: diffUTR_1.12.0.tar.gz PackageFileSize: 1.381 MiB