Package: diffHic Version: 1.36.1 Command: E:\biocbuild\bbs-3.19-bioc\R\bin\R.exe CMD check --no-multiarch --install=check:diffHic.install-out.txt --library=E:\biocbuild\bbs-3.19-bioc\R\library --no-vignettes --timings diffHic_1.36.1.tar.gz StartedAt: 2024-10-17 00:54:00 -0400 (Thu, 17 Oct 2024) EndedAt: 2024-10-17 01:01:34 -0400 (Thu, 17 Oct 2024) EllapsedTime: 454.4 seconds RetCode: 0 Status: OK CheckDir: diffHic.Rcheck Warnings: 0