Package: diffHic Version: 1.36.1 Command: rm -rf diffHic.buildbin-libdir && mkdir diffHic.buildbin-libdir && E:\biocbuild\bbs-3.19-bioc\R\bin\R.exe CMD INSTALL --build --library=diffHic.buildbin-libdir diffHic_1.36.1.tar.gz StartedAt: 2024-10-17 07:41:47 -0400 (Thu, 17 Oct 2024) EndedAt: 2024-10-17 07:43:59 -0400 (Thu, 17 Oct 2024) EllapsedTime: 131.9 seconds RetCode: 0 Status: OK PackageFile: diffHic_1.36.1.zip PackageFileSize: 6.75 MiB