Package: diffHic Version: 1.36.1 Command: chmod a+r diffHic -R && F:\biocbuild\bbs-3.19-bioc\R\bin\R.exe CMD build --keep-empty-dirs --no-resave-data diffHic StartedAt: 2024-06-26 18:25:08 -0400 (Wed, 26 Jun 2024) EndedAt: 2024-06-26 18:27:40 -0400 (Wed, 26 Jun 2024) EllapsedTime: 152.0 seconds RetCode: 0 Status: OK PackageFile: diffHic_1.36.1.tar.gz PackageFileSize: 1.44 MiB