Package: diffHic Version: 1.36.1 Command: /home/biocbuild/bbs-3.19-bioc/R/bin/R CMD INSTALL diffHic StartedAt: 2024-10-16 16:07:58 -0400 (Wed, 16 Oct 2024) EndedAt: 2024-10-16 16:09:28 -0400 (Wed, 16 Oct 2024) EllapsedTime: 90.0 seconds RetCode: 0 Status: OK