Package: diffHic Version: 1.36.1 Command: /home/biocbuild/bbs-3.19-bioc/R/bin/R CMD build --keep-empty-dirs --no-resave-data diffHic StartedAt: 2024-10-16 18:13:32 -0400 (Wed, 16 Oct 2024) EndedAt: 2024-10-16 18:15:05 -0400 (Wed, 16 Oct 2024) EllapsedTime: 93.2 seconds RetCode: 0 Status: OK PackageFile: diffHic_1.36.1.tar.gz PackageFileSize: 1.439 MiB