Package: diffHic Version: 1.36.1 Command: /Library/Frameworks/R.framework/Resources/bin/R CMD INSTALL diffHic StartedAt: 2024-10-16 15:39:07 -0400 (Wed, 16 Oct 2024) EndedAt: 2024-10-16 15:42:30 -0400 (Wed, 16 Oct 2024) EllapsedTime: 202.9 seconds RetCode: 0 Status: OK