Package: diffHic Version: 1.36.1 Command: /Library/Frameworks/R.framework/Resources/bin/R CMD build --keep-empty-dirs --no-resave-data diffHic StartedAt: 2024-10-16 18:44:29 -0400 (Wed, 16 Oct 2024) EndedAt: 2024-10-16 18:48:51 -0400 (Wed, 16 Oct 2024) EllapsedTime: 261.2 seconds RetCode: 0 Status: OK PackageFile: diffHic_1.36.1.tar.gz PackageFileSize: 1.517 MiB