Package: diffHic Version: 1.36.1 Command: rm -rf diffHic.buildbin-libdir && mkdir diffHic.buildbin-libdir && /Users/biocbuild/BBS/utils/build-universal.sh diffHic_1.36.1.tar.gz /Library/Frameworks/R.framework/Resources/bin/R diffHic.buildbin-libdir StartedAt: 2024-10-17 16:01:46 -0400 (Thu, 17 Oct 2024) EndedAt: 2024-10-17 16:05:31 -0400 (Thu, 17 Oct 2024) EllapsedTime: 224.7 seconds RetCode: 0 Status: OK PackageFile: diffHic_1.36.1.tgz PackageFileSize: 2.549 MiB