Package: diffHic Version: 1.36.1 Command: /Library/Frameworks/R.framework/Resources/bin/R CMD INSTALL diffHic StartedAt: 2024-10-16 16:39:22 -0400 (Wed, 16 Oct 2024) EndedAt: 2024-10-16 16:41:02 -0400 (Wed, 16 Oct 2024) EllapsedTime: 99.3 seconds RetCode: 0 Status: OK