Package: diffHic Version: 1.36.1 Command: /Library/Frameworks/R.framework/Resources/bin/R CMD check --install=check:diffHic.install-out.txt --library=/Library/Frameworks/R.framework/Resources/library --no-vignettes --timings diffHic_1.36.1.tar.gz StartedAt: 2024-10-17 19:44:11 -0400 (Thu, 17 Oct 2024) EndedAt: 2024-10-17 19:51:14 -0400 (Thu, 17 Oct 2024) EllapsedTime: 423.1 seconds RetCode: 0 Status: OK CheckDir: diffHic.Rcheck Warnings: 0