Package: diffHic Version: 1.36.1 Command: /Library/Frameworks/R.framework/Resources/bin/R CMD build --keep-empty-dirs --no-resave-data diffHic StartedAt: 2024-10-16 23:20:56 -0400 (Wed, 16 Oct 2024) EndedAt: 2024-10-16 23:22:38 -0400 (Wed, 16 Oct 2024) EllapsedTime: 102.0 seconds RetCode: 0 Status: OK PackageFile: diffHic_1.36.1.tar.gz PackageFileSize: 1.517 MiB