Package: diffGeneAnalysis Version: 1.86.0 Command: rm -rf diffGeneAnalysis.buildbin-libdir && mkdir diffGeneAnalysis.buildbin-libdir && E:\biocbuild\bbs-3.19-bioc\R\bin\R.exe CMD INSTALL --build --library=diffGeneAnalysis.buildbin-libdir diffGeneAnalysis_1.86.0.tar.gz StartedAt: 2024-10-17 07:41:45 -0400 (Thu, 17 Oct 2024) EndedAt: 2024-10-17 07:41:58 -0400 (Thu, 17 Oct 2024) EllapsedTime: 12.4 seconds RetCode: 0 Status: OK PackageFile: diffGeneAnalysis_1.86.0.zip PackageFileSize: 196.7 KiB