Package: diffGeneAnalysis Version: 1.86.0 Command: rm -rf diffGeneAnalysis.buildbin-libdir && mkdir diffGeneAnalysis.buildbin-libdir && F:\biocbuild\bbs-3.19-bioc\R\bin\R.exe CMD INSTALL --build --library=diffGeneAnalysis.buildbin-libdir diffGeneAnalysis_1.86.0.tar.gz StartedAt: 2024-06-27 08:07:24 -0400 (Thu, 27 Jun 2024) EndedAt: 2024-06-27 08:07:32 -0400 (Thu, 27 Jun 2024) EllapsedTime: 8.1 seconds RetCode: 0 Status: OK PackageFile: diffGeneAnalysis_1.86.0.zip PackageFileSize: 196.7 KiB