Package: destiny Version: 3.18.0 Command: rm -rf destiny.buildbin-libdir && mkdir destiny.buildbin-libdir && E:\biocbuild\bbs-3.19-bioc\R\bin\R.exe CMD INSTALL --build --library=destiny.buildbin-libdir destiny_3.18.0.tar.gz StartedAt: 2024-07-15 06:39:50 -0400 (Mon, 15 Jul 2024) EndedAt: 2024-07-15 06:41:20 -0400 (Mon, 15 Jul 2024) EllapsedTime: 89.2 seconds RetCode: 0 Status: OK PackageFile: destiny_3.18.0.zip PackageFileSize: 1.722 MiB