Package: destiny Version: 3.18.0 Command: /Library/Frameworks/R.framework/Resources/bin/R CMD check --install=check:destiny.install-out.txt --library=/Library/Frameworks/R.framework/Resources/library --no-vignettes --timings destiny_3.18.0.tar.gz StartedAt: 2024-07-15 17:30:24 -0400 (Mon, 15 Jul 2024) EndedAt: 2024-07-15 17:35:23 -0400 (Mon, 15 Jul 2024) EllapsedTime: 298.5 seconds RetCode: 0 Status: OK CheckDir: destiny.Rcheck Warnings: 0