Package: derfinderPlot Version: 1.38.0 Command: E:\biocbuild\bbs-3.19-bioc\R\bin\R.exe CMD INSTALL derfinderPlot StartedAt: 2024-10-16 16:50:48 -0400 (Wed, 16 Oct 2024) EndedAt: 2024-10-16 16:51:47 -0400 (Wed, 16 Oct 2024) EllapsedTime: 59.0 seconds RetCode: 0 Status: OK