Package: derfinderPlot Version: 1.38.0 Command: F:\biocbuild\bbs-3.19-bioc\R\bin\R.exe CMD check --no-multiarch --install=check:derfinderPlot.install-out.txt --library=F:\biocbuild\bbs-3.19-bioc\R\library --no-vignettes --timings derfinderPlot_1.38.0.tar.gz StartedAt: 2024-06-27 00:56:53 -0400 (Thu, 27 Jun 2024) EndedAt: 2024-06-27 01:07:56 -0400 (Thu, 27 Jun 2024) EllapsedTime: 663.8 seconds RetCode: 0 Status: OK CheckDir: derfinderPlot.Rcheck Warnings: 0