Package: derfinderPlot Version: 1.38.0 Command: chmod a+r derfinderPlot -R && F:\biocbuild\bbs-3.19-bioc\R\bin\R.exe CMD build --keep-empty-dirs --no-resave-data derfinderPlot StartedAt: 2024-06-26 18:21:42 -0400 (Wed, 26 Jun 2024) EndedAt: 2024-06-26 18:28:12 -0400 (Wed, 26 Jun 2024) EllapsedTime: 390.4 seconds RetCode: 0 Status: OK PackageFile: derfinderPlot_1.38.0.tar.gz PackageFileSize: 911.9 KiB