Package: derfinderPlot Version: 1.38.0 Command: rm -rf derfinderPlot.buildbin-libdir && mkdir derfinderPlot.buildbin-libdir && /Users/biocbuild/BBS/utils/build-universal.sh derfinderPlot_1.38.0.tar.gz /Library/Frameworks/R.framework/Resources/bin/R derfinderPlot.buildbin-libdir StartedAt: 2024-10-17 16:01:08 -0400 (Thu, 17 Oct 2024) EndedAt: 2024-10-17 16:03:11 -0400 (Thu, 17 Oct 2024) EllapsedTime: 123.2 seconds RetCode: 0 Status: OK PackageFile: derfinderPlot_1.38.0.tgz PackageFileSize: 2.468 MiB