Package: derfinderPlot Version: 1.38.0 Command: /Library/Frameworks/R.framework/Resources/bin/R CMD build --keep-empty-dirs --no-resave-data derfinderPlot StartedAt: 2024-06-09 16:27:19 -0400 (Sun, 09 Jun 2024) EndedAt: 2024-06-09 16:30:34 -0400 (Sun, 09 Jun 2024) EllapsedTime: 194.6 seconds RetCode: 0 Status: OK PackageFile: derfinderPlot_1.38.0.tar.gz PackageFileSize: 2.432 MiB