Package: derfinderPlot Version: 1.38.0 Command: rm -rf derfinderPlot.buildbin-libdir && mkdir derfinderPlot.buildbin-libdir && /Users/biocbuild/BBS/utils/build-universal.sh derfinderPlot_1.38.0.tar.gz /Library/Frameworks/R.framework/Resources/bin/R derfinderPlot.buildbin-libdir StartedAt: 2024-06-11 10:55:29 -0400 (Tue, 11 Jun 2024) EndedAt: 2024-06-11 10:57:15 -0400 (Tue, 11 Jun 2024) EllapsedTime: 105.4 seconds RetCode: 0 Status: OK PackageFile: derfinderPlot_1.38.0.tgz PackageFileSize: 2.473 MiB