Package: derfinderPlot Version: 1.38.0 Command: /Library/Frameworks/R.framework/Resources/bin/R CMD build --keep-empty-dirs --no-resave-data derfinderPlot StartedAt: 2024-10-16 23:08:34 -0400 (Wed, 16 Oct 2024) EndedAt: 2024-10-16 23:11:52 -0400 (Wed, 16 Oct 2024) EllapsedTime: 197.7 seconds RetCode: 0 Status: OK PackageFile: derfinderPlot_1.38.0.tar.gz PackageFileSize: 2.437 MiB