Package: derfinderPlot Version: 1.38.0 Maintainer: Leonardo Collado-Torres MaintainerEmail: lcolladotor at gmail.com git_url: https://git.bioconductor.org/packages/derfinderPlot git_branch: RELEASE_3_19 git_last_commit: db6304d git_last_commit_date: 2024-04-30 10:39:16 -0400 (Tue, 30 Apr 2024)