Package: derfinderHelper Version: 1.38.0 Command: chmod a+r derfinderHelper -R && E:\biocbuild\bbs-3.19-bioc\R\bin\R.exe CMD build --keep-empty-dirs --no-resave-data derfinderHelper StartedAt: 2024-10-16 18:39:52 -0400 (Wed, 16 Oct 2024) EndedAt: 2024-10-16 18:40:17 -0400 (Wed, 16 Oct 2024) EllapsedTime: 24.2 seconds RetCode: 0 Status: OK PackageFile: derfinderHelper_1.38.0.tar.gz PackageFileSize: 310 KiB