Package: derfinderHelper Version: 1.38.0 Command: rm -rf derfinderHelper.buildbin-libdir && mkdir derfinderHelper.buildbin-libdir && E:\biocbuild\bbs-3.19-bioc\R\bin\R.exe CMD INSTALL --build --library=derfinderHelper.buildbin-libdir derfinderHelper_1.38.0.tar.gz StartedAt: 2024-10-17 07:40:57 -0400 (Thu, 17 Oct 2024) EndedAt: 2024-10-17 07:41:13 -0400 (Thu, 17 Oct 2024) EllapsedTime: 16.1 seconds RetCode: 0 Status: OK PackageFile: derfinderHelper_1.38.0.zip PackageFileSize: 328.4 KiB