Package: derfinderHelper Version: 1.38.0 Command: rm -rf derfinderHelper.buildbin-libdir && mkdir derfinderHelper.buildbin-libdir && F:\biocbuild\bbs-3.19-bioc\R\bin\R.exe CMD INSTALL --build --library=derfinderHelper.buildbin-libdir derfinderHelper_1.38.0.tar.gz StartedAt: 2024-06-27 08:06:49 -0400 (Thu, 27 Jun 2024) EndedAt: 2024-06-27 08:07:09 -0400 (Thu, 27 Jun 2024) EllapsedTime: 19.9 seconds RetCode: 0 Status: OK PackageFile: derfinderHelper_1.38.0.zip PackageFileSize: 328.4 KiB